BEGIN:VCALENDAR
VERSION:2.0
PRODID:-//jEvents 2.0 for Joomla//EN
CALSCALE:GREGORIAN
METHOD:PUBLISH
BEGIN:VTIMEZONE
TZID:Europe/Berlin
BEGIN:STANDARD
DTSTART:20240125T200000
RDATE:20240331T030000
TZOFFSETFROM:+0200
TZOFFSETTO:+0100
TZNAME:Europe/Berlin CET
END:STANDARD
BEGIN:STANDARD
DTSTART:20241027T020000
RDATE:20250330T030000
TZOFFSETFROM:+0200
TZOFFSETTO:+0100
TZNAME:Europe/Berlin CET
END:STANDARD
BEGIN:STANDARD
DTSTART:20251026T020000
RDATE:20260329T030000
TZOFFSETFROM:+0200
TZOFFSETTO:+0100
TZNAME:Europe/Berlin CET
END:STANDARD
BEGIN:STANDARD
DTSTART:20261025T020000
RDATE:20270328T030000
TZOFFSETFROM:+0200
TZOFFSETTO:+0100
TZNAME:Europe/Berlin CET
END:STANDARD
BEGIN:STANDARD
DTSTART:20271031T020000
RDATE:20280326T030000
TZOFFSETFROM:+0200
TZOFFSETTO:+0100
TZNAME:Europe/Berlin CET
END:STANDARD
BEGIN:STANDARD
DTSTART:20281029T020000
RDATE:20290325T030000
TZOFFSETFROM:+0200
TZOFFSETTO:+0100
TZNAME:Europe/Berlin CET
END:STANDARD
BEGIN:STANDARD
DTSTART:20291028T020000
RDATE:20300331T030000
TZOFFSETFROM:+0200
TZOFFSETTO:+0100
TZNAME:Europe/Berlin CET
END:STANDARD
BEGIN:STANDARD
DTSTART:20301027T020000
RDATE:20310330T030000
TZOFFSETFROM:+0200
TZOFFSETTO:+0100
TZNAME:Europe/Berlin CET
END:STANDARD
BEGIN:STANDARD
DTSTART:20311026T020000
RDATE:20320328T030000
TZOFFSETFROM:+0200
TZOFFSETTO:+0100
TZNAME:Europe/Berlin CET
END:STANDARD
BEGIN:DAYLIGHT
DTSTART:20240331T030000
RDATE:20241027T020000
TZOFFSETFROM:+0100
TZOFFSETTO:+0200
TZNAME:Europe/Berlin CEST
END:DAYLIGHT
BEGIN:DAYLIGHT
DTSTART:20250330T030000
RDATE:20251026T020000
TZOFFSETFROM:+0100
TZOFFSETTO:+0200
TZNAME:Europe/Berlin CEST
END:DAYLIGHT
BEGIN:DAYLIGHT
DTSTART:20260329T030000
RDATE:20261025T020000
TZOFFSETFROM:+0100
TZOFFSETTO:+0200
TZNAME:Europe/Berlin CEST
END:DAYLIGHT
BEGIN:DAYLIGHT
DTSTART:20270328T030000
RDATE:20271031T020000
TZOFFSETFROM:+0100
TZOFFSETTO:+0200
TZNAME:Europe/Berlin CEST
END:DAYLIGHT
BEGIN:DAYLIGHT
DTSTART:20280326T030000
RDATE:20281029T020000
TZOFFSETFROM:+0100
TZOFFSETTO:+0200
TZNAME:Europe/Berlin CEST
END:DAYLIGHT
BEGIN:DAYLIGHT
DTSTART:20290325T030000
RDATE:20291028T020000
TZOFFSETFROM:+0100
TZOFFSETTO:+0200
TZNAME:Europe/Berlin CEST
END:DAYLIGHT
BEGIN:DAYLIGHT
DTSTART:20300331T030000
RDATE:20301027T020000
TZOFFSETFROM:+0100
TZOFFSETTO:+0200
TZNAME:Europe/Berlin CEST
END:DAYLIGHT
BEGIN:DAYLIGHT
DTSTART:20310330T030000
RDATE:20311026T020000
TZOFFSETFROM:+0100
TZOFFSETTO:+0200
TZNAME:Europe/Berlin CEST
END:DAYLIGHT
END:VTIMEZONE
BEGIN:VEVENT
UID:a15c96527adaa61b0135f22f4c2fbcdd
CATEGORIES:PBSV
CREATED:20241030T180640
SUMMARY:Lichtmessball
URL;VALUE=URI:https://koenigstraesser.de/index.php/termine/eventdetail/78/-/lichtmessball
 ?tmpl=component
DESCRIPTION:Großer Bataillons-Ball im Hansesaal!\nDas Ballereignis in Paderborn wirft s
 eine Schatten voraus. Der Paderborner-Bürger-Schützenverein von 1831 e.V. l
 ädt wieder zum großen Lichtmessball in den Hanselsaal des Schützenhofes ein
 .\nEintrittskarten sind über den Diese E-Mail-Adresse ist vor Spambots gesc
 hützt! Zur Anzeige muss JavaScript eingeschaltet sein. erhältlich\nEinlass 
 ab 19 Uhr\n25 € pro Person / erm. 15 € (Teilnehmer unter 25 Jahre) - Ball- 
 oder Abendgarderobe, Schützen mit Uniform\n\n Dieser Event wurde importiert
  von: https://koenigstraesser.de/index.php/termine/eventdetail/78/-/lichtme
 ssball?tmpl=component (https://koenigstraesser.de/index.php/termine/eventde
 tail/78/-/lichtmessball?tmpl=component)
X-ALT-DESC;FMTTYPE=text/html:<p class="uk-text-lead">Großer Bataillons-Ball im Hansesaal!</p><p>Das Ball
 ereignis in Paderborn wirft seine Schatten voraus. Der Paderborner-Bürger-S
 chützenverein von 1831 e.V. lädt wieder zum großen Lichtmessball in den Han
 selsaal des Schützenhofes ein.</p><p class="uk-margin-remove"><strong>Eintr
 ittskarten</strong> sind über den <joomla-hidden-mail  is-link="1" is-email
 ="0" first="ZmVsZHdlYmVs" last="a29lbmlnc3RyYWVzc2VyLmRl" text="RmVsZHdlYmV
 s" base="" >Diese E-Mail-Adresse ist vor Spambots geschützt! Zur Anzeige mu
 ss JavaScript eingeschaltet sein.</joomla-hidden-mail> erhältlich</p><p cla
 ss="uk-margin-remove"><strong>Einlass</strong> ab 19 Uhr</p><p><em>25 € pro
  Person / erm. 15 € (Teilnehmer unter 25 Jahre) - Ball- oder Abendgarderobe
 , Schützen mit Uniform<br /></em></p> <a href="https://koenigstraesser.de/i
 ndex.php/termine/eventdetail/78/-/lichtmessball?tmpl=component">Dieser Even
 t wurde importiert von: https://koenigstraesser.de/index.php/termine/eventd
 etail/78/-/lichtmessball?tmpl=component</a>DTSTAMP:20260419T202603
DTSTART;TZID=Europe/Berlin:20250125T200000
SEQUENCE:0
TRANSP:OPAQUE
END:VEVENT
END:VCALENDAR