BEGIN:VCALENDAR
VERSION:2.0
PRODID:-//jEvents 2.0 for Joomla//EN
CALSCALE:GREGORIAN
METHOD:PUBLISH
BEGIN:VTIMEZONE
TZID:Europe/Berlin
BEGIN:STANDARD
DTSTART:20250220T190000
RDATE:20250330T030000
TZOFFSETFROM:+0200
TZOFFSETTO:+0100
TZNAME:Europe/Berlin CET
END:STANDARD
BEGIN:STANDARD
DTSTART:20251026T020000
RDATE:20260329T030000
TZOFFSETFROM:+0200
TZOFFSETTO:+0100
TZNAME:Europe/Berlin CET
END:STANDARD
BEGIN:STANDARD
DTSTART:20261025T020000
RDATE:20270328T030000
TZOFFSETFROM:+0200
TZOFFSETTO:+0100
TZNAME:Europe/Berlin CET
END:STANDARD
BEGIN:STANDARD
DTSTART:20271031T020000
RDATE:20280326T030000
TZOFFSETFROM:+0200
TZOFFSETTO:+0100
TZNAME:Europe/Berlin CET
END:STANDARD
BEGIN:STANDARD
DTSTART:20281029T020000
RDATE:20290325T030000
TZOFFSETFROM:+0200
TZOFFSETTO:+0100
TZNAME:Europe/Berlin CET
END:STANDARD
BEGIN:STANDARD
DTSTART:20291028T020000
RDATE:20300331T030000
TZOFFSETFROM:+0200
TZOFFSETTO:+0100
TZNAME:Europe/Berlin CET
END:STANDARD
BEGIN:STANDARD
DTSTART:20301027T020000
RDATE:20310330T030000
TZOFFSETFROM:+0200
TZOFFSETTO:+0100
TZNAME:Europe/Berlin CET
END:STANDARD
BEGIN:STANDARD
DTSTART:20311026T020000
RDATE:20320328T030000
TZOFFSETFROM:+0200
TZOFFSETTO:+0100
TZNAME:Europe/Berlin CET
END:STANDARD
BEGIN:DAYLIGHT
DTSTART:20250330T030000
RDATE:20251026T020000
TZOFFSETFROM:+0100
TZOFFSETTO:+0200
TZNAME:Europe/Berlin CEST
END:DAYLIGHT
BEGIN:DAYLIGHT
DTSTART:20260329T030000
RDATE:20261025T020000
TZOFFSETFROM:+0100
TZOFFSETTO:+0200
TZNAME:Europe/Berlin CEST
END:DAYLIGHT
BEGIN:DAYLIGHT
DTSTART:20270328T030000
RDATE:20271031T020000
TZOFFSETFROM:+0100
TZOFFSETTO:+0200
TZNAME:Europe/Berlin CEST
END:DAYLIGHT
BEGIN:DAYLIGHT
DTSTART:20280326T030000
RDATE:20281029T020000
TZOFFSETFROM:+0100
TZOFFSETTO:+0200
TZNAME:Europe/Berlin CEST
END:DAYLIGHT
BEGIN:DAYLIGHT
DTSTART:20290325T030000
RDATE:20291028T020000
TZOFFSETFROM:+0100
TZOFFSETTO:+0200
TZNAME:Europe/Berlin CEST
END:DAYLIGHT
BEGIN:DAYLIGHT
DTSTART:20300331T030000
RDATE:20301027T020000
TZOFFSETFROM:+0100
TZOFFSETTO:+0200
TZNAME:Europe/Berlin CEST
END:DAYLIGHT
BEGIN:DAYLIGHT
DTSTART:20310330T030000
RDATE:20311026T020000
TZOFFSETFROM:+0100
TZOFFSETTO:+0200
TZNAME:Europe/Berlin CEST
END:DAYLIGHT
END:VTIMEZONE
BEGIN:VEVENT
UID:f80a70bb1fbcfb39a41efccf6840e532
CATEGORIES:Königsträsser Kompanie
CREATED:20251008T095902
SUMMARY:Herrenabend der Königsträßer
URL;VALUE=URI:https://koenigstraesser.de/index.php/termine/eventdetail/127/-/herrenabend-
 der-koenigstraesser?tmpl=component
DESCRIPTION:Zünftiger Abend im Schalander der Paderborner Brauerei Haus Cramer.\nBustra
 nsfer um 18.45 Uhr ab der Haltestelle Herz Jesu Kirche / Rückfahrt 23:15 Uh
 rAnmeldung bis zum 28.01. bei Feldwebel Jörg Bauer35 € pro Person - Schütze
 n mit Uniform ohne Orden und Ehrenabzeichen/Schärpe; sonst zivil\n\n Dieser
  Event wurde importiert von: https://koenigstraesser.de/index.php/termine/e
 ventdetail/127/-/herrenabend-der-koenigstraesser?tmpl=component
X-ALT-DESC;FMTTYPE=text/html:<p class="uk-text-lead">Zünftiger Abend im Schalander der Paderborner Braue
 rei Haus Cramer.</p><div><strong>Bustransfer</strong> um 18.45 Uhr ab der H
 altestelle Herz Jesu Kirche / Rückfahrt 23:15 Uhr</div><div><strong>Anmeldu
 ng</strong> bis zum 28.01. bei Feldwebel Jörg Bauer</div><p><em>35 € pro Pe
 rson - Schützen mit Uniform <span style="text-decoration: underline;">ohne<
 /span> Orden und Ehrenabzeichen/Schärpe; sonst zivil<br /></em></p> <a href
 ="https://koenigstraesser.de/index.php/termine/eventdetail/127/-/herrenaben
 d-der-koenigstraesser?tmpl=component">Dieser Event wurde importiert von: ht
 tps://koenigstraesser.de/index.php/termine/eventdetail/127/-/herrenabend-de
 r-koenigstraesser?tmpl=component</a>DTSTAMP:20260420T124753
DTSTART;TZID=Europe/Berlin:20260221T190000
DTEND;TZID=Europe/Berlin:20260221T231500
SEQUENCE:0
TRANSP:OPAQUE
END:VEVENT
END:VCALENDAR